BEGIN:VCALENDAR
VERSION:2.0
PRODID:-//OmniMagnetCalendar//EN
BEGIN:VEVENT
DTSTAMP:20190625T195740Z
STATUS:CONFIRMED
UID:hccentralflorida.clubs.harvard.edu228
DTSTART:20171018T220000Z
DTEND:20161019T233000Z
LOCATION:Fleming's Prime Steakhouse & Wine Barr, 8030 Via Dellagio Way, Orlando, FL , 32819,
SUMMARY:HBS GNN 2017 Harvard Business School - Global Networking Night
DESCRIPTION:
BEGIN:VALARM
TRIGGER:-PT15M
ACTION:DISPLAY
END:VALARM
TRANSP:OPAQUE
END:VEVENT
END:VCALENDAR
